BEGIN:VCALENDAR
VERSION:2.0
PRODID:-//Sabre//Sabre VObject 4.5.8//EN
CALSCALE:GREGORIAN
BEGIN:VEVENT
UID:sabre-vobject-ef9db2e0-2f3c-45b3-8e09-0be53fa21bd9
DTSTAMP:20260423T103432Z
SUMMARY:Neulandkurs PG Utting 
DESCRIPTION:https://evangelisierung-augsburg.de/aktuelles/kalender/neulandk
 urs-pg-utting_id1270795
DTSTART;TZID=Europe/Berlin:20250430T193000
DTEND;TZID=Europe/Berlin:20250430T210000
LOCATION:Kirche Mariä Heimsuchung Utting\, Ludwigstraße 12\, 86919  Uttin
 g am Ammersee
END:VEVENT
END:VCALENDAR
