BEGIN:VCALENDAR
VERSION:2.0
PRODID:-//Sabre//Sabre VObject 4.5.8//EN
CALSCALE:GREGORIAN
BEGIN:VEVENT
UID:sabre-vobject-379f2de9-28dd-4944-8852-eff5e35313e0
DTSTAMP:20260425T233518Z
SUMMARY:Adoratio 2026
DESCRIPTION:https://evangelisierung-augsburg.de/aktuelles/kalender/adoratio
 -2026_id1480954
DTSTART;TZID=Europe/Berlin:20261009T000000
DTEND;TZID=Europe/Berlin:20261011T000000
LOCATION:Gnadenkapelle Altötting\, Kapellpl.\, 84503  Altötting
END:VEVENT
END:VCALENDAR
