BEGIN:VCALENDAR
VERSION:2.0
PRODID:-//Sabre//Sabre VObject 4.5.8//EN
CALSCALE:GREGORIAN
BEGIN:VEVENT
UID:sabre-vobject-cec2d1be-ce10-4c20-b3b1-346ace6e3d97
DTSTAMP:20260426T010317Z
SUMMARY:Gnade?!
DESCRIPTION:https://evangelisierung-augsburg.de/aktuelles/kalender/gnade_id
 1604365
DTSTART;TZID=Europe/Berlin:20260417T000000
DTEND;TZID=Europe/Berlin:20260419T000000
LOCATION:Haus Sankt Ulrich\, Kappelberg 1\, 86150 Augsburg
END:VEVENT
END:VCALENDAR
