BEGIN:VCALENDAR
VERSION:2.0
PRODID:-//Sabre//Sabre VObject 4.5.8//EN
CALSCALE:GREGORIAN
BEGIN:VEVENT
UID:sabre-vobject-27773bed-cc43-4d11-978a-6dcdb50e831d
DTSTAMP:20260422T094406Z
SUMMARY:Türöffner-Kurs Lindau 3. Abend
DESCRIPTION:https://evangelisierung-augsburg.de/aktuelles/kalender/tueroeff
 ner-kurs-lindau-3-abend_id1636368
DTSTART;TZID=Europe/Berlin:20260430T190000
DTEND;TZID=Europe/Berlin:20260430T203000
LOCATION:Pfarrzentrum St. Josef\, Münchhofstraße 4\, 88131 Lindau-Reutin
END:VEVENT
END:VCALENDAR
