BEGIN:VCALENDAR
VERSION:2.0
PRODID:-//Sabre//Sabre VObject 4.5.8//EN
CALSCALE:GREGORIAN
BEGIN:VEVENT
UID:sabre-vobject-f23216bc-d2d9-4eef-9c81-8ca20b72296c
DTSTAMP:20260425T234328Z
SUMMARY:Mission:is:possible
DESCRIPTION:https://evangelisierung-augsburg.de/aktuelles/kalender/mission-
 is-possible_id1667253
DTSTART;TZID=Europe/Berlin:20260619T170000
DTEND;TZID=Europe/Berlin:20260620T210000
LOCATION:Kongress am Park  Augsburg\, Gögginger Str. 10\, 86159 Augsburg
END:VEVENT
END:VCALENDAR
