BEGIN:VCALENDAR
VERSION:2.0
PRODID:-//Sabre//Sabre VObject 4.5.8//EN
CALSCALE:GREGORIAN
BEGIN:VEVENT
UID:sabre-vobject-280fe815-8052-4ba5-96b0-266fe33c0ba9
DTSTAMP:20260423T090729Z
SUMMARY:The Tabernacle
DESCRIPTION:https://evangelisierung-augsburg.de/aktuelles/kalender/the-tabe
 rnacle_id1705251
DTSTART;TZID=Europe/Berlin:20260515T180000
DTEND;TZID=Europe/Berlin:20260515T220000
LOCATION:Tactake Arena Würzburg \, Stettiner Str. 1\, 97072 Würzburg
END:VEVENT
END:VCALENDAR
