BEGIN:VCALENDAR
VERSION:2.0
PRODID:-//Sabre//Sabre VObject 4.5.8//EN
CALSCALE:GREGORIAN
BEGIN:VEVENT
UID:sabre-vobject-f1edda8e-8f86-4847-bb75-999ae47787f6
DTSTAMP:20260423T090906Z
SUMMARY:Neulandkurs PG ZEGOS
DESCRIPTION:https://evangelisierung-augsburg.de/aktuelles/kalender/neulandk
 urs-pg-zegos_id1714813
DTSTART;TZID=Europe/Berlin:20260617T194500
DTEND;TZID=Europe/Berlin:20260617T214500
LOCATION:St. Stephan Obergriesbach\, Stefanstraße 5\, 86573 Obergriesbach
END:VEVENT
END:VCALENDAR
