BEGIN:VCALENDAR
VERSION:2.0
PRODID:-//Sabre//Sabre VObject 4.5.8//EN
CALSCALE:GREGORIAN
BEGIN:VEVENT
UID:sabre-vobject-8660f218-a8a3-4ad6-9f6f-8de0a2f98751
DTSTAMP:20260423T205822Z
SUMMARY:Online-Vernetzungstreffen
DESCRIPTION:https://evangelisierung-augsburg.de/aktuelles/kalender/online-v
 ernetzungstreffen_id1727088
DTSTART;TZID=Europe/Berlin:20260520T193000
DTEND;TZID=Europe/Berlin:20260520T203000
LOCATION:Online
END:VEVENT
END:VCALENDAR
