BEGIN:VCALENDAR
VERSION:2.0
PRODID:-//Sabre//Sabre VObject 4.5.8//EN
CALSCALE:GREGORIAN
BEGIN:VEVENT
UID:sabre-vobject-a156de60-ca26-48a1-a2a4-18edc3817540
DTSTAMP:20260419T123907Z
SUMMARY:Lobpreis- und Segnungsgottesdienst
DESCRIPTION:https://evangelisierung-augsburg.de/aktuelles/kalender/lobpreis
 -und-segnungsgottesdienst_id968871
DTSTART;TZID=Europe/Berlin:20240716T190000
DTEND;TZID=Europe/Berlin:20240716T210000
LOCATION:St. Ulrich Dillingen\, Bischof-Hartmann-Ring 1B\, 89407 Dillingen
END:VEVENT
END:VCALENDAR
